BEGIN:VCALENDAR
VERSION:2.0
PRODID:-//wp-events-plugin.com//7.2.3.1//EN
TZID:Europe/Vienna
X-WR-TIMEZONE:Europe/Vienna
BEGIN:VEVENT
UID:425@ft-digital.at
DTSTART;TZID=Europe/Vienna:20240502T190000
DTEND;TZID=Europe/Vienna:20240502T220000
DTSTAMP:20240402T132620Z
URL:https://www.ft-digital.at/events/02-05-2024-clubabend-vorbereitung-und
 -einfuehrung-in-den-workshop-fantasy/
SUMMARY:02.05.2024 Clubabend - geändertes Thema / Vortrag der Make-up Arti
 stin Marina Böhler
DESCRIPTION:Wir möchten euch darüber informieren\, dass wir das Thema fü
 r unseren Clubabend im Mai kurzfristig geändert haben. Aufgrund der gerin
 gen Anmeldungen zum Thema "Fantasy" haben wir uns entschieden\, den Inhalt
  anzupassen. Doch keine Sorge\, unser Schulungsteam hat sich ins Zeug gele
 gt und einen einzigartigen Abend organisiert!\n\nWir freuen uns sehr\, euc
 h mitteilen zu können\, dass Klemens es geschafft hat\, die renommierte V
 isagistin Marina Böhler für einen Vortrag bei uns zu gewinnen. Marina is
 t eine erfahrene Make-up Artistin und Camouflagistin\, die unter anderem f
 ür Film- und Fotoproduktionen des ORF Vorarlberg tätig ist. Nutzt diese 
 Gelegenheit\, um einzigartige Einblicke zu erhalten und wertvolle Tipps un
 d Tricks für den Fotografenalltag zu bekommen.\n\n&nbsp\;\n\nZusätzlich 
 habt ihr die Möglichkeit\, eure Kamera mitzubringen und im aufgebauten St
 udio Fotos von den gesteilten Models zu machen.\n\n&nbsp\;\n\nWir freuen u
 ns auf einen lehrreichen Abend mit euch!\n\n&nbsp\;\n\nLink zur Homepage\n
 \nSteckbrief zu Marina Böhler\n\nAchtung: wegen der Feiertage im Mai fin
 det dieser Clubabend ausnahmsweise am 1. Donnerstag im Monat (also am 02.0
 5.) statt.&nbsp\;
ATTACH;FMTTYPE=image/jpeg:https://www.ft-digital.at/wp-content/uploads/202
 4/01/AdobeStock_531899221-scaled.jpeg
CATEGORIES:Interner Event,Öffentlicher Event
LOCATION:Kultursaal Wolfurt\, Schulstrasse 2\, Wolfurt\, Vorarlberg\, 6922\
 , Österreich
X-APPLE-STRUCTURED-LOCATION;VALUE=URI;X-ADDRESS=Schulstrasse 2\, Wolfurt\, 
 Vorarlberg\, 6922\, Österreich;X-APPLE-RADIUS=100;X-TITLE=Kultursaal Wolf
 urt:geo:0,0
END:VEVENT
BEGIN:VTIMEZONE
TZID:Europe/Vienna
X-LIC-LOCATION:Europe/Vienna
BEGIN:DAYLIGHT
DTSTART:20240331T030000
TZOFFSETFROM:+0100
TZOFFSETTO:+0200
TZNAME:CEST
END:DAYLIGHT
END:VTIMEZONE
END:VCALENDAR