BEGIN:VCALENDAR
VERSION:2.0
PRODID:-//wp-events-plugin.com//7.2.3.1//EN
TZID:Europe/Vienna
X-WR-TIMEZONE:Europe/Vienna
BEGIN:VEVENT
UID:329@ft-digital.at
DTSTART;TZID=Europe/Vienna:20220406T190000
DTEND;TZID=Europe/Vienna:20220406T220000
DTSTAMP:20220404T184258Z
URL:https://www.ft-digital.at/events/06-04-2022-mittwochshock/
SUMMARY:06.04.2022 - Mittwochshock
DESCRIPTION:Wir treffen uns im Clubheim zum gemütlichen Plausch!
CATEGORIES:Öffentlicher Event
LOCATION:Clubheim Fototeam Digital\, Hofsteigstraße 12a\, Wolfurt\, 6922\,
  Österreich
GEO:47.4657967;9.751138999999966
X-APPLE-STRUCTURED-LOCATION;VALUE=URI;X-ADDRESS=Hofsteigstraße 12a\, Wolfu
 rt\, 6922\, Österreich;X-APPLE-RADIUS=100;X-TITLE=Clubheim Fototeam Digit
 al:geo:47.4657967,9.751138999999966
END:VEVENT
BEGIN:VTIMEZONE
TZID:Europe/Vienna
X-LIC-LOCATION:Europe/Vienna
BEGIN:DAYLIGHT
DTSTART:20220327T030000
TZOFFSETFROM:+0100
TZOFFSETTO:+0200
TZNAME:CEST
END:DAYLIGHT
END:VTIMEZONE
END:VCALENDAR