BEGIN:VCALENDAR
VERSION:2.0
PRODID:-//wp-events-plugin.com//7.2.3.1//EN
TZID:Europe/Vienna
X-WR-TIMEZONE:Europe/Vienna
BEGIN:VEVENT
UID:411@ft-digital.at
DTSTART;TZID=Europe/Vienna:20240208T190000
DTEND;TZID=Europe/Vienna:20240208T220000
DTSTAMP:20240127T183448Z
URL:https://www.ft-digital.at/events/08-02-2024-clubabend-zum-thema-studio
 fotografie-fuer-einsteiger-profis/
SUMMARY:08.02.2024 CLUBABEND ZUM THEMA „STUDIOFOTOGRAFIE FÜR EINSTEIGER 
 & PROFIS!“ Teil 3 von 6
DESCRIPTION:Studiofotografie für Einsteiger &amp\; Profis!\nPraxis im Stud
 io!\n\nArnold Mariacher\, Mario Stecher und Roland Geuze enthüllen ihre G
 eheimnisse rund um die Studiofotografie.\n\nTeil 3 von 6\n\n 	Porträtfoto
 grafie im Studio\n 	Inszenierung von Porträts\n 	Einsatz von Reflektoren 
 und Lichtformern\n 	Lichtsetzung für Produktfoto\n 	Umgang mit Licht und 
 Schatten - Styroporkugel/grauer Würfel\n 	Tipps und Tricks für die Produ
 ktfotografie\n\nAchtung: bei regem Interesse sehen wir uns gezwungen\, die
 sen Abend auf zwei Gruppen aufzuteilen!\n\n 	&nbsp\;\n
ATTACH;FMTTYPE=image/jpeg:https://www.ft-digital.at/wp-content/uploads/202
 3/11/Studio-Foto-scaled.jpeg
CATEGORIES:Interner Event,Öffentlicher Event
LOCATION:Clubheim Fototeam Digital\, Hofsteigstraße 12a\, Wolfurt\, 6922\,
  Österreich
GEO:47.4657967;9.751138999999966
X-APPLE-STRUCTURED-LOCATION;VALUE=URI;X-ADDRESS=Hofsteigstraße 12a\, Wolfu
 rt\, 6922\, Österreich;X-APPLE-RADIUS=100;X-TITLE=Clubheim Fototeam Digit
 al:geo:47.4657967,9.751138999999966
END:VEVENT
BEGIN:VTIMEZONE
TZID:Europe/Vienna
X-LIC-LOCATION:Europe/Vienna
BEGIN:STANDARD
DTSTART:20231029T020000
TZOFFSETFROM:+0200
TZOFFSETTO:+0100
TZNAME:CET
END:STANDARD
END:VTIMEZONE
END:VCALENDAR