BEGIN:VCALENDAR
VERSION:2.0
PRODID:-//wp-events-plugin.com//7.2.3.1//EN
TZID:Europe/Vienna
X-WR-TIMEZONE:Europe/Vienna
BEGIN:VEVENT
UID:551@ft-digital.at
DTSTART;TZID=Europe/Vienna:20260509T130000
DTEND;TZID=Europe/Vienna:20260509T170000
DTSTAMP:20260421T081558Z
URL:https://www.ft-digital.at/events/09-mai-1300-bis-1700-uhrfotomarathon-
 feldkirch-4-themen-4-stunden-unzaehlige-perspektiven/
SUMMARY:09. Mai. 13:00 bis 17:00 UhrFotomarathon Feldkirch  4 Themen\, 4 St
 unden\, unzählige Perspektiven
DESCRIPTION:9. Mai. - 13:00 bis 17:00 Uhr\nFotomarathon Feldkirch\n4 Themen
 \, 4 Stunden\, unzählige Perspektiven\n\nEine tolle Möglichkeit\, unsere
 m gemeinsamen Hobby zu frönen!\n\nFreu dich auf einen spannenden Fotomara
 thon durch die historische Altstadt von Feldkirch. In vier Stunden setzt d
 u vier kreative Themen fotografisch um – direkt aus der Kamera\, denn di
 e Bearbeitung ist ausschließlich kameraintern erlaubt. Das Event findet b
 ei jeder Witterung statt.\n\nWas dich erwartet:\n\n 	Kostenlose Teilnahme\
 n 	Jede Menge Freude an der Fotografie\n 	Kostenlose Leihgeräte (Kameras 
 &amp\; Objektive) über Foto Hebenstreit möglich\n 	Attraktive Preise\n\n
 Preise:\n1. Platz\n€ 150\,- Gutschein von Foto Hebenstreit + 1 Jahresmit
 gliedschaft beim Fotoclub Kontakt\n\n 	 Platz\nFototascheTenba DNA 9im Wer
 t von € 129\,90\n 	 Platz\nHochwertiger Fotodruck bis Größe 30×40 cm\
 n\nDie Bewertung erfolgt durch eine professionelle\, unabhängige Jury.\n\
 nJetzt anmelden!\nWenn du Lust und Zeit hast\, melde dich einfach an – s
 o können bei Bedarf auch Fahrgemeinschaften organisiert werden.\n\n&nbsp\
 ;\n\n&nbsp\;
ATTACH;FMTTYPE=image/jpeg:https://www.ft-digital.at/wp-content/uploads/202
 6/04/fm-slider.jpg
CATEGORIES:Interner Event,Öffentlicher Event
LOCATION:Foto Hebenstreit Feldkirch\, Leonhardsplatz 4\, Feldkirch\, Vorarl
 berg\, 6800\, Österreich
X-APPLE-STRUCTURED-LOCATION;VALUE=URI;X-ADDRESS=Leonhardsplatz 4\, Feldkirc
 h\, Vorarlberg\, 6800\, Österreich;X-APPLE-RADIUS=100;X-TITLE=Foto Hebens
 treit Feldkirch:geo:0,0
END:VEVENT
BEGIN:VTIMEZONE
TZID:Europe/Vienna
X-LIC-LOCATION:Europe/Vienna
BEGIN:DAYLIGHT
DTSTART:20260329T030000
TZOFFSETFROM:+0100
TZOFFSETTO:+0200
TZNAME:CEST
END:DAYLIGHT
END:VTIMEZONE
END:VCALENDAR