BEGIN:VCALENDAR
VERSION:2.0
PRODID:-//wp-events-plugin.com//7.2.3.1//EN
TZID:Europe/Vienna
X-WR-TIMEZONE:Europe/Vienna
BEGIN:VEVENT
UID:314@ft-digital.at
DTSTART;TZID=Europe/Vienna:20210917T190000
DTEND;TZID=Europe/Vienna:20210917T220000
DTSTAMP:20210907T174531Z
URL:https://www.ft-digital.at/events/17-september-vernissage-wechselspiel/
SUMMARY:17. September - Vernissage "Wechselspiel"
DESCRIPTION:Der Fotoclub Nenzing lädt die Mitglieder unseres Clubs zur Ver
 nissage ihrer Clubfotografin Silvia Schuchter am Freitag\, den 17. Septemb
 er 2021 um 19:00 Uhr in den Ramschwagsaal Nenzing ein.\n\nDie Besucher erw
 artet ein spannendes Wechselpiel aus Fotografie (Silvia Schuchter) und Lyr
 ik (Anneliese Zerlauth).\n\n&nbsp\;\n\nVernissage\n\nFreitag\, 17. Septemb
 er 2021 19:00 Uhr\n\nweitere Öffnungszeiten:\n\nSa. 18. Sept. 2021&nbsp\;
  17-20 Uhr\n\nSo. 19. Sept. 2021&nbsp\; 11-18 Uhr\n\nSa. 25. Sept. 2021&nb
 sp\; 17-20 Uhr\n\nSo. 26. Sept. 2021&nbsp\; 11-18 Uhr\n\n&nbsp\;\nWir bild
 en Fahrgemeinschaften - bitte anmelden! Treffpunkt um 18:10 Uhr beim Clubh
 eim.
CATEGORIES:Öffentlicher Event
LOCATION:Ramschwagsaal Nenzing\, Landstraße 1\, Nenzing\, Vorarlberg\, 671
 0\, Österreich
X-APPLE-STRUCTURED-LOCATION;VALUE=URI;X-ADDRESS=Landstraße 1\, Nenzing\, V
 orarlberg\, 6710\, Österreich;X-APPLE-RADIUS=100;X-TITLE=Ramschwagsaal Ne
 nzing:geo:0,0
END:VEVENT
BEGIN:VTIMEZONE
TZID:Europe/Vienna
X-LIC-LOCATION:Europe/Vienna
BEGIN:DAYLIGHT
DTSTART:20210328T030000
TZOFFSETFROM:+0100
TZOFFSETTO:+0200
TZNAME:CEST
END:DAYLIGHT
END:VTIMEZONE
END:VCALENDAR