BEGIN:VCALENDAR
VERSION:2.0
PRODID:-//wp-events-plugin.com//7.2.3.1//EN
TZID:Europe/Vienna
X-WR-TIMEZONE:Europe/Vienna
BEGIN:VEVENT
UID:337@ft-digital.at
DTSTART;TZID=Europe/Vienna:20220319T150000
DTEND;TZID=Europe/Vienna:20220319T170000
DTSTAMP:20220318T065812Z
URL:https://www.ft-digital.at/events/19-03-2022-babybauchshooting-mit-stef
 anie-und-manuel/
SUMMARY:19.03.2022 - Babybauchshooting mit Stefanie und Alexander
DESCRIPTION:Unser Mitglied Stefanie Martin und ihr Partner Alexander erwart
 en ihr zweites Baby.&nbsp\;\n\nDie Beiden haben sich bereit erklärt\, fü
 r Mitglieder unseres Clubs zu Modeln. Wir treffen uns zum &nbsp\;Babybauch
 shooting im Freien. Nutze diese tolle Gelegenheit. Melde dich gleich an. &
 nbsp\;\n\nTermin: 19.03.2022 - 15:00 Uhr - Dauer ca. 2 Stunden.\n\nAusweic
 htermin: 26.03.2022\n\nWir treffen uns im Clubheim und fahren dann gemeins
 am zur noch nicht näher definierten Location.\n\n 
CATEGORIES:Öffentlicher Event
LOCATION:Clubheim Fototeam Digital\, Hofsteigstraße 12a\, Wolfurt\, 6922\,
  Österreich
GEO:47.4657967;9.751138999999966
X-APPLE-STRUCTURED-LOCATION;VALUE=URI;X-ADDRESS=Hofsteigstraße 12a\, Wolfu
 rt\, 6922\, Österreich;X-APPLE-RADIUS=100;X-TITLE=Clubheim Fototeam Digit
 al:geo:47.4657967,9.751138999999966
END:VEVENT
BEGIN:VTIMEZONE
TZID:Europe/Vienna
X-LIC-LOCATION:Europe/Vienna
BEGIN:STANDARD
DTSTART:20211031T020000
TZOFFSETFROM:+0200
TZOFFSETTO:+0100
TZNAME:CET
END:STANDARD
END:VTIMEZONE
END:VCALENDAR