BEGIN:VCALENDAR
VERSION:2.0
PRODID:-//wp-events-plugin.com//7.2.3.1//EN
TZID:Europe/Vienna
X-WR-TIMEZONE:Europe/Vienna
BEGIN:VEVENT
UID:423@ft-digital.at
DTSTART;TZID=Europe/Vienna:20240121T090000
DTEND;TZID=Europe/Vienna:20240121T130000
DTSTAMP:20240120T073515Z
URL:https://www.ft-digital.at/events/2024-01-21-gemeinsames-fruehstueck-mi
 t-winterwandung/
SUMMARY:21-01-2024 Gemeinsames Frühstück mit Winterwandung
DESCRIPTION:Liebe Freunde\,\n\ndas Winterwetter zeigt sich von seiner beste
 n Seite und wir wollen es nicht verpassen\, die verschneite Landschaft zu 
 genießen! Am morgigen Sonntag\, den 21. Jänner\, laden wir dich und dein
 e Lieben herzlich zu einer kleinen Fotowanderung nach Sulzberg ein.\n\nDer
  Tag beginnt um ca. 09:00 Uhr mit einem gemütlichen Frühstücksbuffet im
  Ochsen in Sulzberg. Danach brechen wir um 10:30 Uhr zu einer etwa 1 ½-st
 ündigen Winterwanderung zum Hochmoor auf. Unsere Route ist als leicht ein
 zustufen und ermöglicht dir eine mühelose Erkundung der Natur. Diese ent
 spannte Wanderung eignet sich perfekt für alle\, die die Natur in vollen 
 Zügen genießen möchten\, ohne sich dabei übermäßig herausfordern zu 
 müssen.\n\nWer möchte\, kann im Anschluss in einem der vielen Gasthäuse
 r Mittagessen oder sich auf den Heimweg machen. Damit wir genügend Plätz
 e für das Frühstück reservieren können\, bitten wir euch\, euch gleich
  über unsere Homepage anzumelden. Mario steht euch bei Fragen gerne zur V
 erfügung.\n\nPack deine Kamera ein und lass uns gemeinsam diesen perfekte
 n Wintertag genießen und schöne Erinnerungen schaffen! Wir freuen uns au
 f euch!
ATTACH;FMTTYPE=image/jpeg:https://www.ft-digital.at/wp-content/uploads/202
 4/01/Winterwanderung-scaled.jpeg
CATEGORIES:Öffentlicher Event
LOCATION:Gashaus Ochsen Sulzberg\, Dorf 5\, Sulzberg\, Vorarlberg\, 6934\, 
 Österreich
X-APPLE-STRUCTURED-LOCATION;VALUE=URI;X-ADDRESS=Dorf 5\, Sulzberg\, Vorarlb
 erg\, 6934\, Österreich;X-APPLE-RADIUS=100;X-TITLE=Gashaus Ochsen Sulzber
 g:geo:0,0
END:VEVENT
BEGIN:VTIMEZONE
TZID:Europe/Vienna
X-LIC-LOCATION:Europe/Vienna
BEGIN:STANDARD
DTSTART:20231029T020000
TZOFFSETFROM:+0200
TZOFFSETTO:+0100
TZNAME:CET
END:STANDARD
END:VTIMEZONE
END:VCALENDAR