BEGIN:VCALENDAR
VERSION:2.0
PRODID:-//wp-events-plugin.com//7.2.3.1//EN
TZID:Europe/Vienna
X-WR-TIMEZONE:Europe/Vienna
BEGIN:VEVENT
UID:460@ft-digital.at
DTSTART;TZID=Europe/Vienna:20241031T190000
DTEND;TZID=Europe/Vienna:20241031T220000
DTSTAMP:20241031T131113Z
URL:https://www.ft-digital.at/events/2024-10-31-vernissage-fotoclub-nenzin
 g/
SUMMARY:2024-10-31 Vernissage Fotoclub Nenzing
DESCRIPTION:Der&nbsp\;Fotoclub Nenzing&nbsp\;lädt uns herzlich zur diesjä
 hrigen&nbsp\;Vernissage&nbsp\;ein! &nbsp\;\n\n&nbsp\;\n\nDatum:&nbsp\;Donn
 erstag\, 31. Oktober 2024&nbsp\;\nUhrzeit:&nbsp\;Ab 19 Uhr&nbsp\;\nOrt:&nb
 sp\;Ramschwagsaal\, Nenzing&nbsp\;\n\nIn diesem Jahr steht die&nbsp\;Clubm
 eisterschaft&nbsp\;unter dem spannenden Thema&nbsp\;„Perspektive“. Fre
 uen wir uns auf eine vielfältige und kreative Auswahl an Fotografien\, di
 e dieses Thema in einzigartiger Weise umsetzen.&nbsp\;\n\nZusätzlich prä
 sentieren die Nenzinger Clubkameraden das&nbsp\;Sonderthema „Wasser“&n
 bsp\;mit großformatige Fotografien\, die die Schönheit und Faszination d
 ieses Elements in all seinen Facetten zeigen.&nbsp\;\n\nFahrgemeinschaften
 :&nbsp\;\n\nUm die Anfahrt gemeinsam zu gestalten\, bieten wir Fahrgemeins
 chaften an. Bitte meldet euch über die Homepage an.&nbsp\;\n\nTreffpunkt:
 &nbsp\;18:10 Uhr im Clubheim&nbsp\;\n\nLasst uns gemeinsam einen gemütlic
 hen Abend unter gleichgesinnten erleben. &nbsp\;\n\n&nbsp\;
ATTACH;FMTTYPE=image/jpeg:https://www.ft-digital.at/wp-content/uploads/202
 4/10/FC-Nenzing-ausstellung-scaled.jpg
CATEGORIES:Öffentlicher Event
LOCATION:Clubheim Fototeam Digital\, Hofsteigstraße 12a\, Wolfurt\, 6922\,
  Österreich
GEO:47.4657967;9.751138999999966
X-APPLE-STRUCTURED-LOCATION;VALUE=URI;X-ADDRESS=Hofsteigstraße 12a\, Wolfu
 rt\, 6922\, Österreich;X-APPLE-RADIUS=100;X-TITLE=Clubheim Fototeam Digit
 al:geo:47.4657967,9.751138999999966
END:VEVENT
BEGIN:VTIMEZONE
TZID:Europe/Vienna
X-LIC-LOCATION:Europe/Vienna
BEGIN:STANDARD
DTSTART:20241027T020000
TZOFFSETFROM:+0200
TZOFFSETTO:+0100
TZNAME:CET
END:STANDARD
END:VTIMEZONE
END:VCALENDAR