BEGIN:VCALENDAR
VERSION:2.0
PRODID:-//wp-events-plugin.com//7.2.3.1//EN
TZID:Europe/Vienna
X-WR-TIMEZONE:Europe/Vienna
BEGIN:VEVENT
UID:517@ft-digital.at
DTSTART;TZID=Europe/Vienna:20251001T190000
DTEND;TZID=Europe/Vienna:20251001T213000
DTSTAMP:20250903T101913Z
URL:https://www.ft-digital.at/events/2025-10-01-ueberblendshow-im-festspie
 lhaus-die-besten-fotos-der-welt/
SUMMARY:2025-10-01 Überblendshow im Festspielhaus - die besten Fotos der W
 elt!
DESCRIPTION:TRIERENBERG SUPER CIRCUIT\nDER WELTWEIT GRÖSSTE FOTOKUNSTWETTB
 EWERB\n\nEinladung zur Fotoausstellung – Gemeinsam mit dem Fototeam digi
 tal\n\nIn der Gruppe macht es garantiert noch mehr Spaß: Am Mittwoch\, de
 n 1. Oktober\, heißt es: Gemeinsam staunen\, diskutieren und neue Ideen s
 ammeln!\n\nWir vom Fototeam Digital besuchen die große Fotoausstellung\n\
 nDIE BESTEN FOTOS DER WELT 2025: DAS UNIVERSUM DER NATUR\nFestspielhaus Br
 egenz\nBeginn: 19:00 Uhr\n\nFreut euch auf eine faszinierende Überblendsh
 ow\, die uns mit atemberaubenden Naturaufna
ATTACH;FMTTYPE=image/jpeg:https://www.ft-digital.at/wp-content/uploads/202
 5/09/Bildschirmfoto-2025-09-03-um-12.08.07.png
CATEGORIES:Interner Event
LOCATION:Festspiel und Kongresshaus Bregenz\, Platz d. Wr. Symphoniker 1\, 
 Bregenz\, Vorarlberg\, 6900\, Österreich
X-APPLE-STRUCTURED-LOCATION;VALUE=URI;X-ADDRESS=Platz d. Wr. Symphoniker 1\
 , Bregenz\, Vorarlberg\, 6900\, Österreich;X-APPLE-RADIUS=100;X-TITLE=Fes
 tspiel und Kongresshaus Bregenz:geo:0,0
END:VEVENT
BEGIN:VTIMEZONE
TZID:Europe/Vienna
X-LIC-LOCATION:Europe/Vienna
BEGIN:DAYLIGHT
DTSTART:20250330T030000
TZOFFSETFROM:+0100
TZOFFSETTO:+0200
TZNAME:CEST
END:DAYLIGHT
END:VTIMEZONE
END:VCALENDAR