BEGIN:VCALENDAR
VERSION:2.0
PRODID:-//wp-events-plugin.com//7.2.3.1//EN
TZID:Europe/Vienna
X-WR-TIMEZONE:Europe/Vienna
BEGIN:VEVENT
UID:521@ft-digital.at
DTSTART;TZID=Europe/Vienna:20260128T190000
DTEND;TZID=Europe/Vienna:20260128T220000
DTSTAMP:20260126T075427Z
URL:https://www.ft-digital.at/events/2026-01-28-mittwochshock-aktiv-postpr
 oduktion-crosslighting/
SUMMARY:2026-01-28 Mittwochshock AKTIV - Postproduktion "CrossLighting"
DESCRIPTION:Mittwochshock AKTIV – 28. Jänner&nbsp\;\nBeim Mittwochshock 
 AKTIV (immer am vierten Mittwoch im Monat) tauchen wir gemeinsam in die Fo
 tos vom Clubabend ein!Bring 5–10 deiner besten bearbeiteten Fotos mit 
 – oder schick sie vorher an info@ft-digital.at.Bitte auch die Original-R
 AW-Dateien mitbringen\, damit wir bei Bedarf gemeinsam an der Bildbearbeit
 ung feilen können.\nFreu dich auf Tipps\, Tricks und den Austausch mit Cl
 ubkollegInnen – so macht Fotoclub garantiert richtig Spaß!
ATTACH;FMTTYPE=image/jpeg:https://www.ft-digital.at/wp-content/uploads/202
 5/12/Clubabend-Corsslighting-1800.jpg
CATEGORIES:Interner Event,Öffentlicher Event
LOCATION:Kultursaal Wolfurt\, Schulstrasse 2\, Wolfurt\, Vorarlberg\, 6922\
 , Österreich
X-APPLE-STRUCTURED-LOCATION;VALUE=URI;X-ADDRESS=Schulstrasse 2\, Wolfurt\, 
 Vorarlberg\, 6922\, Österreich;X-APPLE-RADIUS=100;X-TITLE=Kultursaal Wolf
 urt:geo:0,0
END:VEVENT
BEGIN:VTIMEZONE
TZID:Europe/Vienna
X-LIC-LOCATION:Europe/Vienna
BEGIN:STANDARD
DTSTART:20251026T020000
TZOFFSETFROM:+0200
TZOFFSETTO:+0100
TZNAME:CET
END:STANDARD
END:VTIMEZONE
END:VCALENDAR