BEGIN:VCALENDAR
VERSION:2.0
PRODID:-//wp-events-plugin.com//7.2.3.1//EN
TZID:Europe/Vienna
X-WR-TIMEZONE:Europe/Vienna
BEGIN:VEVENT
UID:510@ft-digital.at
DTSTART;TZID=Europe/Vienna:20260425T180000
DTEND;TZID=Europe/Vienna:20260425T193000
DTSTAMP:20250703T111156Z
URL:https://www.ft-digital.at/events/2026-04-25-dokumentation-em-konzert-i
 m-cubus-in-wolfurt/
SUMMARY:2026-04-25 Dokumentation - EM Konzert im Cubus in Wolfurt
DESCRIPTION:Fotografieren &amp\; Mitgestalten – Wir zählen auf dich!&nbs
 p\;\n\nDie&nbsp\;Musikschule am Hofsteig&nbsp\;lädt am&nbsp\;Samstag\, 25
 . April 2026\, von 18:00bis 19:15 Uhr&nbsp\;zum EM-Konzert in den Cubus na
 ch Wolfurt&nbsp\;ein.&nbsp\;\n\nDamit die besonderen Momente dieses Abends
  festgehalten werden\, suchen wir&nbsp\;drei engagierte FotografInnen\, di
 e das Konzert mit ihrer Kamera begleiten und dokumentieren.&nbsp\;\n\nDu b
 ist gerne mit der Kamera unterwegs und hast an diesem Abend Zeit?&nbsp\;\n
 \nDann sei dabei und unterstütze unser Team!&nbsp\;\n\nJetzt eintragen un
 d mitmachen – wir freuen uns auf dich!&nbsp\;\n\n&nbsp\;
ATTACH;FMTTYPE=image/jpeg:https://www.ft-digital.at/wp-content/uploads/202
 3/12/Reportage_Dokumentation-scaled.jpeg
CATEGORIES:Interner Event,Öffentlicher Event
LOCATION:Cubus Wolfurt\, Wälderstrasse 5\, Wolfurt\, Vorarlberg\, 6922\, 
 Österreich
X-APPLE-STRUCTURED-LOCATION;VALUE=URI;X-ADDRESS=Wälderstrasse 5\, Wolfurt\
 , Vorarlberg\, 6922\, Österreich;X-APPLE-RADIUS=100;X-TITLE=Cubus Wolfurt
 :geo:0,0
END:VEVENT
BEGIN:VTIMEZONE
TZID:Europe/Vienna
X-LIC-LOCATION:Europe/Vienna
BEGIN:DAYLIGHT
DTSTART:20260329T030000
TZOFFSETFROM:+0100
TZOFFSETTO:+0200
TZNAME:CEST
END:DAYLIGHT
END:VTIMEZONE
END:VCALENDAR