BEGIN:VCALENDAR
VERSION:2.0
PRODID:-//wp-events-plugin.com//7.2.3.1//EN
TZID:Europe/Vienna
X-WR-TIMEZONE:Europe/Vienna
BEGIN:VEVENT
UID:511@ft-digital.at
DTSTART;TZID=Europe/Vienna:20260506T180000
DTEND;TZID=Europe/Vienna:20260506T200000
DTSTAMP:20250703T111744Z
URL:https://www.ft-digital.at/events/2026-05-06-dokumentation-muttertagsko
 nzert/
SUMMARY:2026-05-06 Dokumentation - Muttertagskonzert
DESCRIPTION:Fotografieren &amp\; Mitgestalten – Wir zählen auf dich!&nbs
 p\;\n\nDie&nbsp\;Musikschule am Hofsteig lädt am Mittwoch\, den 06. Mai\,
  von 18:00bis 20:00 Uhr&nbsp\;zum Muttertagskonzert in den Gemeindesaal na
 ch Schwarzach&nbsp\;ein.&nbsp\;\n\nDamit die besonderen Momente dieses Abe
 nds festgehalten werden\, suchen wir&nbsp\;drei engagierte FotografInnen\,
  die das Konzert mit ihrer Kamera begleiten und dokumentieren.&nbsp\;\n\nD
 u bist gerne mit der Kamera unterwegs und hast an diesem Abend Zeit?&nbsp\
 ;\n\nDann sei dabei und unterstütze unser Team!&nbsp\;\n\nJetzt eintragen
  und mitmachen – wir freuen uns auf dich!&nbsp\;\n\n&nbsp\;
ATTACH;FMTTYPE=image/jpeg:https://www.ft-digital.at/wp-content/uploads/202
 3/12/Reportage_Dokumentation-scaled.jpeg
CATEGORIES:Interner Event,Öffentlicher Event
END:VEVENT
BEGIN:VTIMEZONE
TZID:Europe/Vienna
X-LIC-LOCATION:Europe/Vienna
BEGIN:DAYLIGHT
DTSTART:20260329T030000
TZOFFSETFROM:+0100
TZOFFSETTO:+0200
TZNAME:CEST
END:DAYLIGHT
END:VTIMEZONE
END:VCALENDAR