BEGIN:VCALENDAR
VERSION:2.0
PRODID:-//wp-events-plugin.com//7.2.3.1//EN
TZID:Europe/Vienna
X-WR-TIMEZONE:Europe/Vienna
BEGIN:VEVENT
UID:410@ft-digital.at
DTSTART;TZID=Europe/Vienna:20240124T190000
DTEND;TZID=Europe/Vienna:20240124T220000
DTSTAMP:20240112T174356Z
URL:https://www.ft-digital.at/events/24-01-2024-mittwochshock-aktiv-zum-th
 ema-studiofotografie-fuer-einsteiger-profis-teil-2/
SUMMARY:24.01.2024 Mittwochshock aktiv zum Thema „STUDIOFOTOGRAFIE FÜR E
 INSTEIGER & PROFIS!“ Teil 2 von 6
DESCRIPTION:Studiofotografie für Einsteiger &amp\; Profis!\nTeil 2 von 6\n
 \n 	Lichtführung\n 	Unterschiedliche Lichtquellen und ihre Wirkung\n 	Fot
 ografieren mit einer und mit zwei Lichtquellen\n 	Praktische Übungen zur 
 Lichtführung\n 	Rembrandtlicht\, Butterflylicht etc.\n\n&nbsp\;\n\nIm Rah
 men unserer Kursreihe "Studiofotografie"&nbsp\; wird uns der Fotograf und 
 erfahrene Fotokaufmann Kurt Gründl von der renommierten Firma Köberl in 
 Graz exklusiv Einblicke in das faszinierende Thema "Licht und Lichtführun
 g im Studio" gewähren.\n\nKurt Gründl bringt nicht nur sein umfassendes 
 Wissen mit\, sondern auch eine leidenschaftliche Begeisterung für die Wel
 t der Fotografie. Seine Präsentation wird unser Verständnis für das Lic
 htsetup im Studio vertiefen.
ATTACH;FMTTYPE=image/jpeg:https://www.ft-digital.at/wp-content/uploads/202
 3/11/Studio-Foto-scaled.jpeg
CATEGORIES:Interner Event,Öffentlicher Event
LOCATION:Fidel Gmeiner GmbH & Co KG\, Unterlinden 15\, Wolfurt\, Vorarlberg
 \, 6922\, Österreich
X-APPLE-STRUCTURED-LOCATION;VALUE=URI;X-ADDRESS=Unterlinden 15\, Wolfurt\, 
 Vorarlberg\, 6922\, Österreich;X-APPLE-RADIUS=100;X-TITLE=Fidel Gmeiner G
 mbH & Co KG:geo:0,0
END:VEVENT
BEGIN:VTIMEZONE
TZID:Europe/Vienna
X-LIC-LOCATION:Europe/Vienna
BEGIN:STANDARD
DTSTART:20231029T020000
TZOFFSETFROM:+0200
TZOFFSETTO:+0100
TZNAME:CET
END:STANDARD
END:VTIMEZONE
END:VCALENDAR