BEGIN:VCALENDAR
VERSION:2.0
PRODID:-//wp-events-plugin.com//7.2.3.1//EN
TZID:Europe/Vienna
X-WR-TIMEZONE:Europe/Vienna
BEGIN:VEVENT
UID:259@ft-digital.at
DTSTART;TZID=Europe/Vienna:20200828T140000
DTEND;TZID=Europe/Vienna:20200828T180000
DTSTAMP:20200819T124000Z
URL:https://www.ft-digital.at/events/28-08-2020-touch-try-canon-eos-r5-r6/
SUMMARY:28.08.2020 Touch & Try Canon EOS R5 & R6
DESCRIPTION:\nTouch &amp\; Try am 28.08.2020 von 14:00 bis 18:00 Uhr bei Fo
 to Hebenstreit in Feldkirch.\n \nEin System von heute für die Zukunft von
  morgen.\nAm 28. August wurden die Mitglieder vom Fototeam Digital zur Pr
 äsentation der EOS R5 &amp\; R6 eingeladen. Live Präsentation von 14:00 
 bis 18:00 Uhr.\n\nTreffpunkt beim Club 13:30 Uhr! Melde dich an\, wir orga
 nisieren bei Bedarf Fahrgemeinschaften!\n\n \n\nAufbauend auf über drei J
 ahrzehnten kontinuierlicher EOS Innovation basiert das EOS R System auf ei
 nem bahnbrechenden Objektivbajonett\, das größere kreative und noch dyna
 mischere Möglichkeiten bietet\, jeden Moment festzuhalten. Es definiert d
 ie Grenzen für Fotografen und Filmer ganz neu.\n\n \n\n&nbsp\;\n\n
ATTACH;FMTTYPE=image/jpeg:https://www.ft-digital.at/wp-content/uploads/202
 0/08/Banner-TouchTry94764.jpg
CATEGORIES:Öffentlicher Event
LOCATION:Foto Hebenstreit Feldkirch\, Leonhardsplatz 4\, Feldkirch\, Vorarl
 berg\, 6800\, Österreich
X-APPLE-STRUCTURED-LOCATION;VALUE=URI;X-ADDRESS=Leonhardsplatz 4\, Feldkirc
 h\, Vorarlberg\, 6800\, Österreich;X-APPLE-RADIUS=100;X-TITLE=Foto Hebens
 treit Feldkirch:geo:0,0
END:VEVENT
BEGIN:VTIMEZONE
TZID:Europe/Vienna
X-LIC-LOCATION:Europe/Vienna
BEGIN:DAYLIGHT
DTSTART:20200329T030000
TZOFFSETFROM:+0100
TZOFFSETTO:+0200
TZNAME:CEST
END:DAYLIGHT
END:VTIMEZONE
END:VCALENDAR