BEGIN:VCALENDAR
VERSION:2.0
PRODID:-//wp-events-plugin.com//7.2.3.1//EN
TZID:Europe/Vienna
X-WR-TIMEZONE:Europe/Vienna
BEGIN:VEVENT
UID:486@ft-digital.at
DTSTART;TZID=Europe/Vienna:20250115T000000
DTEND;TZID=Europe/Vienna:20250505T000000
DTSTAMP:20250228T201231Z
URL:https://www.ft-digital.at/events/clubmeisterschaft-2025-durchfuehrungs
 bestimmungen-anmeldung-preisverteilung-12-06-2024/
SUMMARY:Clubmeisterschaft 2025 - Durchführungsbestimmungen - Anmeldung - P
 reisverteilung am 12.06.2025
DESCRIPTION:Ausschreibung zur Clubmeisterschaft 2025\n[caption id="attachme
 nt_52311" align="aligncenter" width="1024"] Bestes Bild der Clubmeistersch
 aft 2024 © Meinrad Schöpfer[/caption]\n\nJedes Mitglied hat die Möglich
 keit\, bis zum 04. Mai 2025 - 23:59 Uhr 4 Bilder einzureichen.&nbsp\;\n\n\
 n\nThema frei\, egal ob SW oder Farbe.&nbsp\;\n\n\n\nEinziges Kriterium 
 – die Werke dürfen nicht schon einmal bei einer Clubmeisterschaft einge
 reicht worden sein.&nbsp\;\n\n\n\nAuflösung: 3000 pxl lange Kante\nBeschr
 iftung: Bildtitel_Autor.jpg&nbsp\;(Wind_MaxMustermann.jpg)\nBitte sende di
 e Fotos per @ an wettbewerb@ft-digital.at ! Solltest du Fragen haben - ruf
  einfach kurz an - wir sind dir gerne behilflich!\n\n\n\nJurierung: die Be
 wertung wird von einem befreundeten Fotoclub übernommen und durchgeführt
 .\n\n\n\nPreisverteilung am 12.06.2025&nbsp\;– wie gewohnt in gemütlich
 er Atmosphäre bei gutem Essen mit Bier\, Wein und Gesang…. &nbsp\;\nWir
  haben im Harder Stögis bereits reserviert.\nEs ist wieder soweit! Die Cl
 ubmeisterschaft 2025 steht vor der Tür und wir können es kaum erwarten\,
  eure Werke zu sehen. Dieses Jahr haben wir etwas Besonderes geplant: Die 
 eingereichten Bilder werden im Herbst auf dem Schloss Wolfurt ausgestellt 
 und einem breiten Publikum präsentiert.&nbsp\; Stellt euch vor\, die toll
 en Fotos in den neuen hintergrundbeleuchteten Bilderrahmen zu sehen. &nbsp
 \;&nbsp\;\nLasst uns gemeinsam die fotografische Vielfalt unseres Clubs ze
 igen und die Clubmeisterschaft zu einem einzigartigen Ereignis machen. Mel
 de dich an\, sei dabei und lass deine Bilder sprechen. Wir freuen uns auf 
 eure Teilnahme!&nbsp\;\n\n\n
ATTACH;FMTTYPE=image/jpeg:https://www.ft-digital.at/wp-content/uploads/202
 2/06/medaillien.jpg
CATEGORIES:Interner Event,Öffentlicher Event
LOCATION:Clubheim Fototeam Digital\, Hofsteigstraße 12a\, Wolfurt\, 6922\,
  Österreich
GEO:47.4657967;9.751138999999966
X-APPLE-STRUCTURED-LOCATION;VALUE=URI;X-ADDRESS=Hofsteigstraße 12a\, Wolfu
 rt\, 6922\, Österreich;X-APPLE-RADIUS=100;X-TITLE=Clubheim Fototeam Digit
 al:geo:47.4657967,9.751138999999966
END:VEVENT
BEGIN:VTIMEZONE
TZID:Europe/Vienna
X-LIC-LOCATION:Europe/Vienna
BEGIN:STANDARD
DTSTART:20241027T020000
TZOFFSETFROM:+0200
TZOFFSETTO:+0100
TZNAME:CET
END:STANDARD
BEGIN:DAYLIGHT
DTSTART:20250330T030000
TZOFFSETFROM:+0100
TZOFFSETTO:+0200
TZNAME:CEST
END:DAYLIGHT
END:VTIMEZONE
END:VCALENDAR