BEGIN:VCALENDAR
VERSION:2.0
PRODID:-//wp-events-plugin.com//7.2.3.1//EN
TZID:Europe/Vienna
X-WR-TIMEZONE:Europe/Vienna
BEGIN:VEVENT
UID:550@ft-digital.at
DTSTART;TZID=Europe/Vienna:20260201T000000
DTEND;TZID=Europe/Vienna:20260505T000000
DTSTAMP:20260301T182449Z
URL:https://www.ft-digital.at/events/clubmeisterschaft-2026-durchfuehrungs
 bestimmungen-anmeldung-preisverteilung-am-11-06-2026/
SUMMARY:Clubmeisterschaft 2026 - Durchführungsbestimmungen - Anmeldung
DESCRIPTION:Ausschreibung zur Clubmeisterschaft 2026\n[caption id="attachme
 nt_64689" align="alignnone" width="1024"] Bestes Bild bei der CM 2025 - ©
  Christine Schuler[/caption]\n\nJedes Mitglied hat die Möglichkeit\, bis 
 zum 03. Mai 2026 - 23:59 Uhr 4 Bilder einzureichen.&nbsp\;\n\n\n\nThema fr
 ei\, egal ob SW oder Farbe.&nbsp\;\n\n\n\nEinziges Kriterium – die Werke
  dürfen nicht schon einmal bei einer Clubmeisterschaft eingereicht worden
  sein.&nbsp\;\n\n\n\nAuflösung: 3000 pxl lange Kante\nBeschriftung: Bildt
 itel_Autor.jpg&nbsp\;(Wind_MaxMustermann.jpg)\nBitte sende die Fotos per @
  an wettbewerb@ft-digital.at ! Solltest du Fragen haben - ruf einfach kurz
  an - wir sind dir gerne behilflich!\n\n\n\nJurierung: die Bewertung wird 
 von einem befreundeten Fotoclub übernommen und durchgeführt.\n\n\n\nPrei
 sverteilung am 11.06.2026&nbsp\;– wie gewohnt in gemütlicher Atmosphär
 e bei gutem Essen mit Bier\, Wein und Gesang…. &nbsp\;\nWir haben im Har
 der Stögis bereits reserviert.\n&nbsp\;\n\n\n
ATTACH;FMTTYPE=image/jpeg:https://www.ft-digital.at/wp-content/uploads/202
 2/06/medaillien.jpg
CATEGORIES:Interner Event,Öffentlicher Event
LOCATION:Clubheim Fototeam Digital\, Hofsteigstraße 12a\, Wolfurt\, 6922\,
  Österreich
GEO:47.4657967;9.751138999999966
X-APPLE-STRUCTURED-LOCATION;VALUE=URI;X-ADDRESS=Hofsteigstraße 12a\, Wolfu
 rt\, 6922\, Österreich;X-APPLE-RADIUS=100;X-TITLE=Clubheim Fototeam Digit
 al:geo:47.4657967,9.751138999999966
END:VEVENT
BEGIN:VTIMEZONE
TZID:Europe/Vienna
X-LIC-LOCATION:Europe/Vienna
BEGIN:STANDARD
DTSTART:20251026T020000
TZOFFSETFROM:+0200
TZOFFSETTO:+0100
TZNAME:CET
END:STANDARD
BEGIN:DAYLIGHT
DTSTART:20260329T030000
TZOFFSETFROM:+0100
TZOFFSETTO:+0200
TZNAME:CEST
END:DAYLIGHT
END:VTIMEZONE
END:VCALENDAR