BEGIN:VCALENDAR
VERSION:2.0
PRODID:-//wp-events-plugin.com//7.2.3.1//EN
TZID:Europe/Vienna
X-WR-TIMEZONE:Europe/Vienna
BEGIN:VEVENT
UID:218@ft-digital.at
DTSTART;TZID=Europe/Vienna:20191031T190000
DTEND;TZID=Europe/Vienna:20191031T220000
DTSTAMP:20191017T180849Z
URL:https://www.ft-digital.at/events/fotoausstellung-am-31-10-2019-in-nenz
 ing/
SUMMARY:Fotoausstellung am 31.10.2019 in Nenzing
DESCRIPTION:Thema "Licht und Schatten"\n\nmit Sonderthema "HDR"\n\nMittwoch
 \, 31.10. bis Sonntag\, 3.11.2019\n\nDer Fotoclub-Nenzing lädt alle Inter
 essierten zur Ausstellung mit dem Thema "Licht &amp\; Schatten" ins Foyer 
 des Ramschwagsaales in Nenzing ein. Es werden Arbeiten der letzten Clubmei
 sterschaft gezeigt. Weiters können Bilder zum Sonderthema "HDR" bewundert
  werden.\n\nRamschwagsaal Nenzing – Foyer\n\nÖffnungszeiten:\n\nDonners
 tag&nbsp\; 31.10.2019&nbsp\;&nbsp\; 19:00 Uhr öffentliche Vernissage\n\nF
 reitag &nbsp\;&nbsp\;&nbsp\;&nbsp\;&nbsp\;&nbsp\;&nbsp\;&nbsp\; 01.11.2019
  &nbsp\; 10:00 – 18:00 Uhr&nbsp\;&nbsp\; Ausstellung\n\nSamstag &nbsp\;&
 nbsp\;&nbsp\; &nbsp\; 02.11.2019 &nbsp\; 14:00 – 18:00 Uhr&nbsp\;&nbsp\;
  Ausstellung\n\nSonntag &nbsp\;&nbsp\;&nbsp\;&nbsp\;&nbsp\;&nbsp\; 03.11.2
 019&nbsp\;&nbsp\; 10:00 – 20:00 Uhr&nbsp\;&nbsp\; Ausstellung\n\n&nbsp\;
 \n\nWir fahren am Donnerstag\, den 31.10.2019 gemeinsam zur Vernissage nac
 h Nenzing. Treffpunkt 18.00 Uhr im Clubheim.\n\nWir bilden Fahrgemeinschaf
 ten....\n\nPLAKAT Fotoclub Nenzing Ausstellung 2019\n\n
CATEGORIES:Öffentlicher Event
LOCATION:Clubheim Fototeam Digital\, Hofsteigstraße 12a\, Wolfurt\, 6922\,
  Österreich
GEO:47.4657967;9.751138999999966
X-APPLE-STRUCTURED-LOCATION;VALUE=URI;X-ADDRESS=Hofsteigstraße 12a\, Wolfu
 rt\, 6922\, Österreich;X-APPLE-RADIUS=100;X-TITLE=Clubheim Fototeam Digit
 al:geo:47.4657967,9.751138999999966
END:VEVENT
BEGIN:VTIMEZONE
TZID:Europe/Vienna
X-LIC-LOCATION:Europe/Vienna
BEGIN:STANDARD
DTSTART:20191027T020000
TZOFFSETFROM:+0200
TZOFFSETTO:+0100
TZNAME:CET
END:STANDARD
END:VTIMEZONE
END:VCALENDAR