BEGIN:VCALENDAR
VERSION:2.0
PRODID:-//wp-events-plugin.com//7.2.3.1//EN
TZID:Europe/Vienna
X-WR-TIMEZONE:Europe/Vienna
BEGIN:VEVENT
UID:366@ft-digital.at
DTSTART;TZID=Europe/Vienna;VALUE=DATE:20260101
DTEND;TZID=Europe/Vienna;VALUE=DATE:20270101
DTSTAMP:20251229T211442Z
URL:https://www.ft-digital.at/events/schulungs-und-kursprogramm-2023-zum-d
 ownload/
SUMMARY:Aktivitäten- und Kursprogramm 2026 zum DOWNLOAD
DESCRIPTION:Unser Schulungsteam hat ein fesselndes Jahresprogramm 2026 entw
 orfen – vollgepackt mit Wissen und spannenden Erfahrungen.\n\nSei bereit
  für ein Jahr des Lernens und Wachsens!\nDie vorläufige Planung steht\, 
 doch Flexibilität ist unser Schlüssel. Änderungen werden dynamisch ange
 passt und auf der Homepage kommuniziert.\nBitte melde dich gleich zu den f
 ür dich interessanten Kursen- und Veranstaltungen an. \nMindestteilnehmer
 zahl für Kurse\, Workshops und Events 10 Personen (ohne Trainer).&nbsp\;\
 n&nbsp\;\nJahresprogramm 2026\n(Aktivitäten mit Vorbehalt - Änderung wah
 rscheinlich)\nJahresprogramm 2026 zum DOWNLOAD\nJahresprogramm 2025\nJahre
 sprogramm 2025 zum Download\n&nbsp\;\n&nbsp\;\n&nbsp\;\n&nbsp\;\n&nbsp\;\n
 &nbsp\;
ATTACH;FMTTYPE=image/jpeg:https://www.ft-digital.at/wp-content/uploads/202
 3/03/AdobeStock_477814507-scaled.jpeg
CATEGORIES:Interner Event,Öffentlicher Event
END:VEVENT
BEGIN:VTIMEZONE
TZID:Europe/Vienna
X-LIC-LOCATION:Europe/Vienna
BEGIN:STANDARD
DTSTART:20251026T020000
TZOFFSETFROM:+0200
TZOFFSETTO:+0100
TZNAME:CET
END:STANDARD
BEGIN:DAYLIGHT
DTSTART:20260329T030000
TZOFFSETFROM:+0100
TZOFFSETTO:+0200
TZNAME:CEST
END:DAYLIGHT
BEGIN:STANDARD
DTSTART:20261025T020000
TZOFFSETFROM:+0200
TZOFFSETTO:+0100
TZNAME:CET
END:STANDARD
END:VTIMEZONE
END:VCALENDAR