BEGIN:VCALENDAR
VERSION:2.0
PRODID:-//wp-events-plugin.com//7.2.3.1//EN
TZID:Europe/Vienna
X-WR-TIMEZONE:Europe/Vienna
BEGIN:VEVENT
UID:181@ft-digital.at
DTSTART;TZID=Europe/Vienna:20190517T193000
DTEND;TZID=Europe/Vienna:20190517T220000
DTSTAMP:20190203T231123Z
URL:https://www.ft-digital.at/events/vernissage-am-17-mai-gaeste-und-besuc
 heranmeldung/
SUMMARY:FOTO.KUNST.VEREIN - Gäste- und Besucheranmeldung zur Vernissage am
  17. Mai\, 19.30 Uhr
DESCRIPTION:Du gibst uns am 17. Mai\, 19.30 Uhr die Ehre und besuchst die V
 ernissage sowie die&nbsp\;Fotoausstellung mit Werken unserer Mitglieder. 6
 0 großformatige Exponate werden im Vereinshaus Wolfurt präsentiert. Eine
  einzigartige Freilichtausstellung mit Riesenfotos von jeweils mehr als 4 
 m2 ergänzen die Show. Nach der Vernissage gibt es die Möglichkeit\, in K
 leingruppen über die Aspekte der Bildanalyse zu diskutieren und die Werke
  zu besprechen.\n\nDamit wir für dein leibliches Wohl sorgen können\, bi
 tten wir nachstehend einzutragen\, mit wie vielen Personen du zur Vernissa
 ge erscheinst.\n\nDanke
CATEGORIES:Öffentlicher Event
LOCATION:\, \, 
X-APPLE-STRUCTURED-LOCATION;VALUE=URI;X-ADDRESS=\, ;X-APPLE-RADIUS=100;X-TI
 TLE=:geo:0,0
END:VEVENT
BEGIN:VTIMEZONE
TZID:Europe/Vienna
X-LIC-LOCATION:Europe/Vienna
BEGIN:DAYLIGHT
DTSTART:20190331T030000
TZOFFSETFROM:+0100
TZOFFSETTO:+0200
TZNAME:CEST
END:DAYLIGHT
END:VTIMEZONE
END:VCALENDAR