BEGIN:VCALENDAR
VERSION:2.0
PRODID:-//wp-events-plugin.com//7.2.3.1//EN
TZID:Europe/Vienna
X-WR-TIMEZONE:Europe/Vienna
BEGIN:VEVENT
UID:247@ft-digital.at
DTSTART;TZID=Europe/Vienna:20200501T000000
DTEND;TZID=Europe/Vienna:20200930T000000
DTSTAMP:20200921T111109Z
URL:https://www.ft-digital.at/events/vorarlberg-radelt-radius-2020/
SUMMARY:„Vorarlberg radelt“ – Radius 2020 - ENDE 30. SEPT!
DESCRIPTION:Ab 1. Mai bis zum 30. September RADIUS 2020
CATEGORIES:Öffentlicher Event
LOCATION:\, \, 
X-APPLE-STRUCTURED-LOCATION;VALUE=URI;X-ADDRESS=\, ;X-APPLE-RADIUS=100;X-TI
 TLE=:geo:0,0
END:VEVENT
BEGIN:VTIMEZONE
TZID:Europe/Vienna
X-LIC-LOCATION:Europe/Vienna
BEGIN:DAYLIGHT
DTSTART:20200329T030000
TZOFFSETFROM:+0100
TZOFFSETTO:+0200
TZNAME:CEST
END:DAYLIGHT
END:VTIMEZONE
END:VCALENDAR